BEGIN:VCALENDAR
VERSION:2.0
PRODID:-// - ECPv6.8.2.1//NONSGML v1.0//EN
CALSCALE:GREGORIAN
METHOD:PUBLISH
X-ORIGINAL-URL:https://ehsipto.org
X-WR-CALDESC:Events for 
REFRESH-INTERVAL;VALUE=DURATION:PT1H
X-Robots-Tag:noindex
X-PUBLISHED-TTL:PT1H
BEGIN:VTIMEZONE
TZID:America/Chicago
BEGIN:DAYLIGHT
TZOFFSETFROM:-0600
TZOFFSETTO:-0500
TZNAME:CDT
DTSTART:20250309T080000
END:DAYLIGHT
BEGIN:STANDARD
TZOFFSETFROM:-0500
TZOFFSETTO:-0600
TZNAME:CST
DTSTART:20251102T070000
END:STANDARD
END:VTIMEZONE
BEGIN:VEVENT
DTSTART;TZID=America/Chicago:20251031T080000
DTEND;TZID=America/Chicago:20251031T170000
DTSTAMP:20260420T051243
CREATED:20250915T010514Z
LAST-MODIFIED:20250915T010514Z
UID:2575-1761897600-1761930000@ehsipto.org
SUMMARY:Maraton de Lectura: Pledges Due!!!
DESCRIPTION:Please turn in all pledges for Maraton (Read-a-thon)! This is our major fundraiser for the year!
URL:https://ehsipto.org/event/maraton-de-lectura-pledges-due/
END:VEVENT
END:VCALENDAR